BEGIN:VCALENDAR
VERSION:2.0
PRODID:https://github.com/derhansen/sf_event_mgt
METHOD:PUBLISH
BEGIN:VEVENT
UID:25-153@www.opticon-akademie.at
CLASS: PUBLIC
SUMMARY:Betriebsübergabe & -nachfolge
DESCRIPTION:\r\nZIELGRUPPE\n\nUnternehmer, die innerhalb der nächsten Jahre
  ihren Betrieb übergeben wollen bzw. potenzielle Übernehmer\n\nTEILNEHMERZA
 HL\n\nmax. 12 Personen\n\nTRAINER\n\nDr. Thomas Reischauer, MBA\n\nBEGINN /
  DAUER\n\n9.00 Uhr - ganztägig (bis ca. 17.00 Uhr)\n\nABSCHLUSS\n\nmit Absc
 hlusszertifikat\n\nSEMINARGEBÜHR\n\n•   € 390,- für OPTICON Partner\n\n•   
 € 540,- für alle anderen Teilnehmer\n\nDie Seminargebühr beinhaltet alle Un
 terlagen sowie die Verpflegung während des Seminars.\n\nalle Preise exkl. M
 wSt
DTSTAMP:20251112T163124Z
DTSTART:20260608T070000Z
END:VEVENT
END:VCALENDAR
