BEGIN:VCALENDAR
VERSION:2.0
PRODID:https://github.com/derhansen/sf_event_mgt
METHOD:PUBLISH
BEGIN:VEVENT
UID:10-153@www.opticon-akademie.at
CLASS: PUBLIC
SUMMARY:Kontaktlinsen-Assistent
DESCRIPTION:Termine•   13. April 2026•   06. Oktober 2026\r\nZIELGRUPPE\n\n
 •   Kontaktlinsen-Assistenten\n\n•   Kontaktlinsen-Anpasser\n\n•   Augenarz
 t-Assistenten\n\nTEILNEHMERZAHL\n\nmax. 15 Personen\n\nTRAINER\n\nHarald Kr
 anewitter, MSc\n\nBEGINN / DAUER\n\n9.00 Uhr - ganztägig (bis ca. 17.00 Uhr
 )\n\nABSCHLUSS\n\nmit Abschlusszertifikat\n\nSEMINARGEBÜHR\n\n•   € 220,- f
 ür OPTICON Partner (bei gleichzeitiger Buchung von Teil I € 200,-)\n\n•   €
  350,- für alle anderen Teilnehmer (bei gleichzeitiger Buchung von Teil I €
  330,-)\n\nDie Seminargebühr beinhaltet alle Unterlagen sowie die Verpflegu
 ng während des Seminars.\n\nalle Preise exkl. MwSt
DTSTAMP:20251112T163231Z
DTSTART:20261006T070000Z
END:VEVENT
END:VCALENDAR
