BEGIN:VCALENDAR
VERSION:2.0
PRODID:https://github.com/derhansen/sf_event_mgt
METHOD:PUBLISH
BEGIN:VEVENT
UID:74-153@www.opticon-akademie.at
CLASS: PUBLIC
SUMMARY:Refraktionsseminar
DESCRIPTION:Termine•   21. April 2026•   21. Oktober 2026 \r\nZIELGRUPPE\n\
 n•   Optiker\n\n•   Kontaktlinsen-Assistenten\n\n•   Kontaktlinsen-Anpasser
 \n\n•   Augenarzt-Assistenten\n\nTEILNEHMERZAHL\n\nmax. 8 Personen\n\nTRAIN
 ER\n\nHarald Kranewitter, MSc\n\nBEGINN / DAUER\n\n9.00 Uhr - ganztägig (bi
 s ca. 17.00 Uhr)\n\nABSCHLUSS\n\nmit Abschlusszertifikat\n\nSEMINARGEBÜHR\n
 \n•   € 220,- für OPTICON Partner (bei gleichzeitiger Buchung von Teil I od
 er Teil III € 200,-)\n\n•   € 350,- für alle anderen Teilnehmer (bei gleich
 zeitiger Buchung von Teil I oder Teil III € 330,-)\n\nDie Seminargebühr bei
 nhaltet alle Unterlagen sowie die Verpflegung während des Seminars.\n\nalle
  Preise exkl. MwSt
DTSTAMP:20251114T104641Z
DTSTART:20261021T070000Z
END:VEVENT
END:VCALENDAR
