BEGIN:VCALENDAR
VERSION:2.0
PRODID:https://github.com/derhansen/sf_event_mgt
METHOD:PUBLISH
BEGIN:VEVENT
UID:42-153@www.opticon-akademie.at
CLASS: PUBLIC
SUMMARY:Refraktionsseminar
DESCRIPTION:Polatest mit Prismenkorrektur nach Haase (MKH)\r\nZIELGRUPPE\n\
 n•   Optiker\n\n•   Kontaktlinsen-Assistenten\n\n•   Kontaktlinsen-Anpasser
 \n\n•   Augenarzt-Assistenten\n\nTEILNEHMERZAHL\n\nmax. 8 Personen\n\nTRAIN
 ER\n\nHarald Kranewitter, MSc\n\nBEGINN / DAUER\n\n9.00 Uhr - ganztägig (bi
 s ca. 17.00 Uhr)\n\nABSCHLUSS\n\nmit Abschlusszertifikat\n\nSEMINARGEBÜHR\n
 \n•   € 220,- für OPTICON Partner (bei gleichzeitiger Buchung von Teil I od
 er Teil II € 200,-)\n\n•   € 350,- für alle anderen Teilnehmer (bei gleichz
 eitiger Buchung von Teil I oder Teil II € 330,-)\n\nDie Seminargebühr beinh
 altet alle Unterlagen sowie die Verpflegung während des Seminars.\n\nalle P
 reise exkl. MwSt
DTSTAMP:20260413T100318Z
DTSTART:20261124T080000Z
END:VEVENT
END:VCALENDAR
