BEGIN:VCALENDAR
VERSION:2.0
PRODID:https://github.com/derhansen/sf_event_mgt
METHOD:PUBLISH
BEGIN:VEVENT
UID:78-153@www.opticon-akademie.at
CLASS: PUBLIC
SUMMARY:Skiaskopieseminar
DESCRIPTION:\r\nZIELGRUPPE\n\n•   Optiker\n\n•   Kontaktlinsen-Assistenten\
 n\n•   Kontaktlinsen-Anpasser\n\n•   Augenarzt-Assistenten\n\nTEILNEHMERZAH
 L\n\nmax. 8 Personen\n\nTRAINER\n\nHarald Kranewitter, MSc\n\nBEGINN / DAUE
 R\n\n9.00 Uhr - ganztägig (bis ca. 17.00 Uhr)\n\nABSCHLUSS\n\nmit Abschluss
 zertifikat\n\nSEMINARGEBÜHR\n\n•   € 260,- für OPTICON Partner\n\n•   € 390
 ,- für alle anderen Teilnehmer\n\nDie Seminargebühr beinhaltet alle Unterla
 gen sowie die Verpflegung während des Seminars.\n\nalle Preise exkl. MwSt
DTSTAMP:20251112T163750Z
DTSTART:20260602T070000Z
END:VEVENT
END:VCALENDAR
