BEGIN:VCALENDAR
VERSION:2.0
PRODID:https://github.com/derhansen/sf_event_mgt
METHOD:PUBLISH
BEGIN:VEVENT
UID:83-153@www.opticon-akademie.at
CLASS: PUBLIC
SUMMARY:Torische- & Multifokal-Kontaktlinsen
DESCRIPTION:Alle gängigen Typen werden in Theorie und Praxis erklärt und in
  der Gruppe angepasst. Mit Erfolgsgarantie!\r\nZIELGRUPPE\n\n•   Optiker\n\
 n•   Kontaktlinsen-Assistenten\n\n•   Kontaktlinsen-Anpasser\n\n•   Augenar
 zt-Assistenten\n\nTEILNEHMERZAHL\n\nmax. 8 Personen\n\nTRAINER\n\nHarald Kr
 anewitter, MSc\n\nBEGINN / DAUER\n\n9.00 Uhr - ganztägig (bis ca. 17.00 Uhr
 )\n\nABSCHLUSS\n\nmit Abschlusszertifikat\n\nSEMINARGEBÜHR\n\n•   € 220,- f
 ür OPTICON Partner\n\n•   € 350,- für alle anderen Teilnehmer \n\nDie Semin
 argebühr beinhaltet alle Unterlagen sowie die Verpflegung während des Semin
 ars.\n\nalle Preise exkl. MwSt
DTSTAMP:20251112T163847Z
DTSTART:20260928T070000Z
END:VEVENT
END:VCALENDAR
