BEGIN:VCALENDAR
VERSION:2.0
PRODID:https://github.com/derhansen/sf_event_mgt
METHOD:PUBLISH
BEGIN:VEVENT
UID:125-153@www.opticon-akademie.at
CLASS: PUBLIC
SUMMARY:Trockenes Auge und Kontaktlinsen
DESCRIPTION:\r\nZIELGRUPPE\n\n•   Optiker\n\n•   Kontaktlinsen-Assistenten\
 n\n•   Kontaktlinsen-Anpasser\n\n•   Augenarzt-Assistenten\n\nTEILNEHMERZAH
 L\n\nmax. 8 Personen\n\nTRAINER\n\nRobert Fetzer\n\nBEGINN / DAUER\n\n9.00 
 Uhr - ganztägig (bis ca. 17.00 Uhr)\n\nABSCHLUSS\n\nmit Abschlusszertifikat
 \n\nSEMINARGEBÜHR\n\n•   € 220,- für OPTICON Partner\n\n•   € 350,- für all
 e anderen Teilnehmer \n\nDie Seminargebühr beinhaltet alle Unterlagen sowie
  die Verpflegung während des Seminars.\n\nalle Preise exkl. MwSt
DTSTAMP:20260421T081014Z
DTSTART:20260610T070000Z
END:VEVENT
END:VCALENDAR
